BEGIN:VCALENDAR
VERSION:2.0
PRODID:-//Mädchenchor Hannover - ECPv6.15.20//NONSGML v1.0//EN
CALSCALE:GREGORIAN
METHOD:PUBLISH
X-WR-CALNAME:Mädchenchor Hannover
X-ORIGINAL-URL:https://maedchenchor-hannover.de
X-WR-CALDESC:Veranstaltungen für Mädchenchor Hannover
REFRESH-INTERVAL;VALUE=DURATION:PT1H
X-Robots-Tag:noindex
X-PUBLISHED-TTL:PT1H
BEGIN:VTIMEZONE
TZID:Europe/Berlin
BEGIN:DAYLIGHT
TZOFFSETFROM:+0100
TZOFFSETTO:+0200
TZNAME:CEST
DTSTART:20220327T010000
END:DAYLIGHT
BEGIN:STANDARD
TZOFFSETFROM:+0200
TZOFFSETTO:+0100
TZNAME:CET
DTSTART:20221030T010000
END:STANDARD
BEGIN:DAYLIGHT
TZOFFSETFROM:+0100
TZOFFSETTO:+0200
TZNAME:CEST
DTSTART:20230326T010000
END:DAYLIGHT
BEGIN:STANDARD
TZOFFSETFROM:+0200
TZOFFSETTO:+0100
TZNAME:CET
DTSTART:20231029T010000
END:STANDARD
BEGIN:DAYLIGHT
TZOFFSETFROM:+0100
TZOFFSETTO:+0200
TZNAME:CEST
DTSTART:20240331T010000
END:DAYLIGHT
BEGIN:STANDARD
TZOFFSETFROM:+0200
TZOFFSETTO:+0100
TZNAME:CET
DTSTART:20241027T010000
END:STANDARD
END:VTIMEZONE
BEGIN:VEVENT
DTSTART;TZID=Europe/Berlin:20230609T180000
DTEND;TZID=Europe/Berlin:20230609T193000
DTSTAMP:20260423T095729
CREATED:20230306T164223Z
LAST-MODIFIED:20230531T135631Z
UID:32002-1686333600-1686339000@maedchenchor-hannover.de
SUMMARY:NDR Ring Barock
DESCRIPTION:Für das 4. Barockkonzert versammelt sich unter Leitung des in Hannover bestens bekannten niederländischen Barockexperten Jan Willem de Vriend jede Menge weibliche Gesangskompetenz: der Mädchenchor Hannover sowie eine Riege international renommierter Solistinnen. Aufgeführt werden geistliche Kompositionen von Hasse und Vivaldi\, deren Chorparts und Solopartien ausschließlich mit Frauen besetzt sind.Jan Willem de Vriend DirigentNatalie Karl SopranValentina Farcas SopranEva Vogel AltMädchenchor HannoverNDR Radiophilharmonie Johann Adolf HasseMiserere d-Mollfür Soli\, Frauenchor und OrchesterAntonio VivaldiGloria D-Dur RV 589(in der Bearbeitung für Frauenchor von Malcolm Bruno) Tickets erhalten Sie hier
URL:https://maedchenchor-hannover.de/?tribe_events=ndr-ring-barock-2
LOCATION:NDR Großer Sendesaal\, Rudolf-von-Bennigsen-Ufer 22\, Hannover\, 30169\, Deutschland
ATTACH;FMTTYPE=image/jpeg:https://maedchenchor-hannover.de/wp-content/uploads/devriend114_v-fullhd.jpg
END:VEVENT
END:VCALENDAR