BEGIN:VCALENDAR
VERSION:2.0
PRODID:-//Mädchenchor Hannover - ECPv6.15.20//NONSGML v1.0//EN
CALSCALE:GREGORIAN
METHOD:PUBLISH
X-WR-CALNAME:Mädchenchor Hannover
X-ORIGINAL-URL:https://maedchenchor-hannover.de
X-WR-CALDESC:Veranstaltungen für Mädchenchor Hannover
REFRESH-INTERVAL;VALUE=DURATION:PT1H
X-Robots-Tag:noindex
X-PUBLISHED-TTL:PT1H
BEGIN:VTIMEZONE
TZID:Europe/Berlin
BEGIN:DAYLIGHT
TZOFFSETFROM:+0100
TZOFFSETTO:+0200
TZNAME:CEST
DTSTART:20220327T010000
END:DAYLIGHT
BEGIN:STANDARD
TZOFFSETFROM:+0200
TZOFFSETTO:+0100
TZNAME:CET
DTSTART:20221030T010000
END:STANDARD
BEGIN:DAYLIGHT
TZOFFSETFROM:+0100
TZOFFSETTO:+0200
TZNAME:CEST
DTSTART:20230326T010000
END:DAYLIGHT
BEGIN:STANDARD
TZOFFSETFROM:+0200
TZOFFSETTO:+0100
TZNAME:CET
DTSTART:20231029T010000
END:STANDARD
BEGIN:DAYLIGHT
TZOFFSETFROM:+0100
TZOFFSETTO:+0200
TZNAME:CEST
DTSTART:20240331T010000
END:DAYLIGHT
BEGIN:STANDARD
TZOFFSETFROM:+0200
TZOFFSETTO:+0100
TZNAME:CET
DTSTART:20241027T010000
END:STANDARD
END:VTIMEZONE
BEGIN:VEVENT
DTSTART;TZID=Europe/Berlin:20230503T153000
DTEND;TZID=Europe/Berlin:20230503T160000
DTSTAMP:20260423T075020
CREATED:20230417T143254Z
LAST-MODIFIED:20230425T131621Z
UID:33216-1683127800-1683129600@maedchenchor-hannover.de
SUMMARY:Mädchenchor beim Städtoskoop in Wettbergen
DESCRIPTION:Im Frühjahr zieht das Städtoskoop\, ein mobiler Kulturort\, durch Hannover – von der Innenstadt in die Stadtteile und zurück. Das Städtoskoop\, eine überdimensionale Blase\, dient als mobiler Kulturort\, die auf ihrem Weg durch Hannover ihre Form ändert\, sich Straßen\, Plätzen\, Orten anschmiegt und sich ihren Raum nimmt. Sie besteht aus einem umgebauten\, mit Stahlblech ausgekleideten Anhänger\, aus dem heraus sich eine pneumatische Raumhülle wie eine Bubble entfaltet. Der Mädchenchor macht mit beim bunten Programm und gibt am 03. Mai ein kleines Konzert\, wenn die Bubble in Wettbergen gastiert. Mehr darüber und über die Bubble hier…
URL:https://maedchenchor-hannover.de/?tribe_events=maedchenchor-beim-staedtoskoop-in-wettbergen
LOCATION:Wettbergen\, zero:e park\, Hannover\, 30457
ATTACH;FMTTYPE=image/png:https://maedchenchor-hannover.de/wp-content/uploads/STaedtoskoopMai2023-e1681742199292.png
ORGANIZER;CN="Landeshauptstadt Hannover":MAILTO:www.hannover.de/staedtoskoop
END:VEVENT
END:VCALENDAR