BEGIN:VCALENDAR
VERSION:2.0
PRODID:-//Mädchenchor Hannover - ECPv6.15.20//NONSGML v1.0//EN
CALSCALE:GREGORIAN
METHOD:PUBLISH
X-WR-CALNAME:Mädchenchor Hannover
X-ORIGINAL-URL:https://maedchenchor-hannover.de
X-WR-CALDESC:Veranstaltungen für Mädchenchor Hannover
REFRESH-INTERVAL;VALUE=DURATION:PT1H
X-Robots-Tag:noindex
X-PUBLISHED-TTL:PT1H
BEGIN:VTIMEZONE
TZID:Europe/Berlin
BEGIN:DAYLIGHT
TZOFFSETFROM:+0100
TZOFFSETTO:+0200
TZNAME:CEST
DTSTART:20220327T010000
END:DAYLIGHT
BEGIN:STANDARD
TZOFFSETFROM:+0200
TZOFFSETTO:+0100
TZNAME:CET
DTSTART:20221030T010000
END:STANDARD
BEGIN:DAYLIGHT
TZOFFSETFROM:+0100
TZOFFSETTO:+0200
TZNAME:CEST
DTSTART:20230326T010000
END:DAYLIGHT
BEGIN:STANDARD
TZOFFSETFROM:+0200
TZOFFSETTO:+0100
TZNAME:CET
DTSTART:20231029T010000
END:STANDARD
BEGIN:DAYLIGHT
TZOFFSETFROM:+0100
TZOFFSETTO:+0200
TZNAME:CEST
DTSTART:20240331T010000
END:DAYLIGHT
BEGIN:STANDARD
TZOFFSETFROM:+0200
TZOFFSETTO:+0100
TZNAME:CET
DTSTART:20241027T010000
END:STANDARD
END:VTIMEZONE
BEGIN:VEVENT
DTSTART;TZID=Europe/Berlin:20230415T180000
DTEND;TZID=Europe/Berlin:20230415T193000
DTSTAMP:20260423T043207
CREATED:20230306T165045Z
LAST-MODIFIED:20230307T153534Z
UID:32005-1681581600-1681587000@maedchenchor-hannover.de
SUMMARY:Mädchenkantorei am Bremer Dom und Mädchenchor Hannover
DESCRIPTION:Ein Frühlingskonzert der vielen Stimmen! Wir freuen uns\, mit der Mädchenchorkantorei am Bremer Dom einen jungen Chor zu einem gemeinsamen Konzert gewonnen zu haben\, der mit Hannover eng verbunden ist – hat doch der künstlerische Leiter Markus Kaiser seinerzeit an der HMTM in Hannover Chorleitung studiert.\nMit dem Konzertchor der Mädchenkantorei aus Bremen bringt Markus Kaiser J.S. Bachs „Tilge\, Höchster\, meine Sünden“\, BWV 1083\, zur Aufführung. Mitwirkende sind dabei Sarah Behrendt\, Sopran\, Katharina Heiligtag\, Alt\, das Kammerensemble Konsonanz und Eun Mi Kim\, Truhenorgel. Werke unter anderem von Johannes Brahms\, Gioachino Rossini und Robert Schumann (Klavier: Nicolai Krügel) runden dann ein Konzertprogramm ab\, das Sie mit viel Freude den Frühling begrüßen lassen wird. Tickets für die Veranstaltung erhalten Sie bei unserem Ticketpartner Reservix direkt über diesen Link.
URL:https://maedchenchor-hannover.de/?tribe_events=bremer-kantoreichor-und-maedchenchor-hannover
LOCATION:Christuskirche Hannover\, Conrad-Wilhelm-Hase-Platz 1\, Hannover\, 30167\, Deutschland
CATEGORIES:Chorkonzert,Kirchenkonzert
ATTACH;FMTTYPE=image/jpeg:https://maedchenchor-hannover.de/wp-content/uploads/230415_konzertplakat.jpg
ORGANIZER;CN="M%C3%A4dchenchor Hannover":MAILTO:info@maedchenchor-hannover.de
END:VEVENT
END:VCALENDAR